BEGIN:VCALENDAR
VERSION:2.0
PRODID:-//United Church of God, Birmingham,  Christian Fellowship - ECPv6.15.17.1//NONSGML v1.0//EN
CALSCALE:GREGORIAN
METHOD:PUBLISH
X-WR-CALNAME:United Church of God, Birmingham,  Christian Fellowship
X-ORIGINAL-URL:https://ucg-b.org
X-WR-CALDESC:Events for United Church of God, Birmingham,  Christian Fellowship
REFRESH-INTERVAL;VALUE=DURATION:PT1H
X-Robots-Tag:noindex
X-PUBLISHED-TTL:PT1H
BEGIN:VTIMEZONE
TZID:America/Chicago
BEGIN:DAYLIGHT
TZOFFSETFROM:-0600
TZOFFSETTO:-0500
TZNAME:CDT
DTSTART:20240310T080000
END:DAYLIGHT
BEGIN:STANDARD
TZOFFSETFROM:-0500
TZOFFSETTO:-0600
TZNAME:CST
DTSTART:20241103T070000
END:STANDARD
BEGIN:DAYLIGHT
TZOFFSETFROM:-0600
TZOFFSETTO:-0500
TZNAME:CDT
DTSTART:20250309T080000
END:DAYLIGHT
BEGIN:STANDARD
TZOFFSETFROM:-0500
TZOFFSETTO:-0600
TZNAME:CST
DTSTART:20251102T070000
END:STANDARD
BEGIN:DAYLIGHT
TZOFFSETFROM:-0600
TZOFFSETTO:-0500
TZNAME:CDT
DTSTART:20260308T080000
END:DAYLIGHT
BEGIN:STANDARD
TZOFFSETFROM:-0500
TZOFFSETTO:-0600
TZNAME:CST
DTSTART:20261101T070000
END:STANDARD
END:VTIMEZONE
BEGIN:VEVENT
DTSTART;TZID=America/Chicago:20251011T080000
DTEND;TZID=America/Chicago:20251011T170000
DTSTAMP:20260423T170834
CREATED:20251002T001008Z
LAST-MODIFIED:20251002T001010Z
UID:10204-1760169600-1760202000@ucg-b.org
SUMMARY:No Weekly Sabbath Service
DESCRIPTION:No local Sabbath Service
URL:https://ucg-b.org/event/no-weekly-sabbath-service/
CATEGORIES:Weekly Sabbath Service
ATTACH;FMTTYPE=image/jpeg:https://ucg-b.org/wp-content/uploads/2023/09/flat-lay-multicolored-autumn-maple-leaves-and-october-lettering.jpg
END:VEVENT
BEGIN:VEVENT
DTSTART;TZID=America/Chicago:20251004T110000
DTEND;TZID=America/Chicago:20251004T133000
DTSTAMP:20260423T170834
CREATED:20251002T000725Z
LAST-MODIFIED:20251002T195542Z
UID:10202-1759575600-1759584600@ucg-b.org
SUMMARY:Weekly Sabbath Service
DESCRIPTION:Sabbath Service Start:  11:00 AM \nSong Leader:           Steve Burleson \nMessage:                  Neal Parker \nScripture Reading:   Kakki Brown \nMessage:                  Neal Parker \nSet Up:                     Leigh Ann Parker \nAudio:                       Neal Parker
URL:https://ucg-b.org/event/weekly-sabbath-service-13/
CATEGORIES:Weekly Sabbath Service
ATTACH;FMTTYPE=image/jpeg:https://ucg-b.org/wp-content/uploads/2023/09/flat-lay-multicolored-autumn-maple-leaves-and-october-lettering.jpg
END:VEVENT
BEGIN:VEVENT
DTSTART;TZID=America/Chicago:20250927T110000
DTEND;TZID=America/Chicago:20250927T133000
DTSTAMP:20260423T170834
CREATED:20250902T194520Z
LAST-MODIFIED:20250919T152008Z
UID:10114-1758970800-1758979800@ucg-b.org
SUMMARY:Weekly Sabbath Service
DESCRIPTION:Sabbath Services Start: 11:00 AM\nSong Leader: Steve Burleson\nMessage: Neal Parker\nSpecial Music: Bill Repp\nScripture Reading: Dave Leavell\nMessage: Neal Parker\nHall Set Up/Close: Kakki Brown\nAudio/Visual: Blake Franklin
URL:https://ucg-b.org/event/weekly-sabbath-service-12/
CATEGORIES:Weekly Sabbath Service
ATTACH;FMTTYPE=image/jpeg:https://ucg-b.org/wp-content/uploads/2023/08/overview-of-september-calendar-surrounded-by-colorful-autumn-leaves.jpg
END:VEVENT
BEGIN:VEVENT
DTSTART;TZID=America/Chicago:20250920T110000
DTEND;TZID=America/Chicago:20250920T133000
DTSTAMP:20260423T170834
CREATED:20250902T194012Z
LAST-MODIFIED:20250919T150858Z
UID:10112-1758366000-1758375000@ucg-b.org
SUMMARY:Weekly Sabbath Service
DESCRIPTION:Sabbath Services Start: 11:00 AM\nSong Leader: Tim Alfred\nScripture Reading: Neal Parker\nMessage: Ben Franklin\nHall Set Up/Close: Leigh Ann Parker\nAudio/Visual: Blake Franklin
URL:https://ucg-b.org/event/weekly-sabbath-service-11/
CATEGORIES:Weekly Sabbath Service
END:VEVENT
BEGIN:VEVENT
DTSTART;TZID=America/Chicago:20250913T110000
DTEND;TZID=America/Chicago:20250913T133000
DTSTAMP:20260423T170834
CREATED:20250902T193631Z
LAST-MODIFIED:20260112T153336Z
UID:10110-1757761200-1757770200@ucg-b.org
SUMMARY:Weekly Sabbath Service
DESCRIPTION:Holy Day Services Start: 11:00 AM
URL:https://ucg-b.org/event/weekly-sabbath-service-10/
CATEGORIES:Weekly Sabbath Service
ATTACH;FMTTYPE=image/jpeg:https://ucg-b.org/wp-content/uploads/2023/08/overview-of-september-calendar-surrounded-by-colorful-autumn-leaves.jpg
END:VEVENT
BEGIN:VEVENT
DTSTART;TZID=America/Chicago:20250906T110000
DTEND;TZID=America/Chicago:20250906T133000
DTSTAMP:20260423T170834
CREATED:20250902T193036Z
LAST-MODIFIED:20250902T193134Z
UID:10106-1757156400-1757165400@ucg-b.org
SUMMARY:Weekly Sabbath Service
DESCRIPTION:Sabbath Services Start: 11:00 AM\nSong Leader: Blake Franklin\nMessage: Dave Leavell\nScripture Reading Steve Burleson\nMessage: Neal Parker\nHall Set Up/Close: Kakki Brown\nAudio/Visual: Neal Parker / Blake Franklin
URL:https://ucg-b.org/event/weekly-sabbath-service-9/
CATEGORIES:Weekly Sabbath Service
ATTACH;FMTTYPE=image/jpeg:https://ucg-b.org/wp-content/uploads/2023/08/overview-of-september-calendar-surrounded-by-colorful-autumn-leaves.jpg
END:VEVENT
BEGIN:VEVENT
DTSTART;TZID=America/Chicago:20250830T110000
DTEND;TZID=America/Chicago:20250830T133000
DTSTAMP:20260423T170834
CREATED:20250729T010215Z
LAST-MODIFIED:20250830T015905Z
UID:10047-1756551600-1756560600@ucg-b.org
SUMMARY:Weekly Sabbath Service
DESCRIPTION:Song Leader: Tim Alfred\nMessage: Neal Parker\nScripture Reading Bill Repp\nMessage: David Duff\nHall Set Up/Close: Tim Alfred
URL:https://ucg-b.org/event/weekly-sabbath-service-31/
CATEGORIES:Weekly Sabbath Service
ATTACH;FMTTYPE=image/jpeg:https://ucg-b.org/wp-content/uploads/2023/07/august-creative-text-made-with-flowers.jpg
END:VEVENT
BEGIN:VEVENT
DTSTART;TZID=America/Chicago:20250823T110000
DTEND;TZID=America/Chicago:20250823T133000
DTSTAMP:20260423T170834
CREATED:20250729T005800Z
LAST-MODIFIED:20250729T005803Z
UID:10045-1755946800-1755955800@ucg-b.org
SUMMARY:Weekly Sabbath Service
DESCRIPTION:Song Leader: Steve Burleson\nMessage: Ben Franklin\nScripture Reading:  Dave Leavell\nMessage: Neal Parker\nHall Set Up/Close: Beth Burleson
URL:https://ucg-b.org/event/weekly-sabbath-service-30/
CATEGORIES:Weekly Sabbath Service
ATTACH;FMTTYPE=image/jpeg:https://ucg-b.org/wp-content/uploads/2023/07/august-creative-text-made-with-flowers.jpg
END:VEVENT
BEGIN:VEVENT
DTSTART;TZID=America/Chicago:20250816T110000
DTEND;TZID=America/Chicago:20250816T133000
DTSTAMP:20260423T170834
CREATED:20250729T005354Z
LAST-MODIFIED:20250729T005355Z
UID:10043-1755342000-1755351000@ucg-b.org
SUMMARY:Weekly Sabbath Service
DESCRIPTION:Song Leader: Tim Alfred\nMessage: Neal Parker\nScripture Reading Ben Franklin\nMessage: Neal Parker\nHall Set Up/Close: Leigh Ann Parker\nAudio/Visual: Blake Franklin
URL:https://ucg-b.org/event/weekly-sabbath-service-29/
CATEGORIES:Weekly Sabbath Service
ATTACH;FMTTYPE=image/jpeg:https://ucg-b.org/wp-content/uploads/2023/07/august-creative-text-made-with-flowers.jpg
END:VEVENT
BEGIN:VEVENT
DTSTART;TZID=America/Chicago:20250809T110000
DTEND;TZID=America/Chicago:20250809T133000
DTSTAMP:20260423T170834
CREATED:20250729T005135Z
LAST-MODIFIED:20250731T143750Z
UID:10041-1754737200-1754746200@ucg-b.org
SUMMARY:Weekly Sabbath Services
DESCRIPTION:Song Leader: Blake Franklin \nMessage: Dave Leavell\nScripture Reading Kakki Brown\nMessage: Ben Franklin\nHall Set Up/Close: Kakki Brown
URL:https://ucg-b.org/event/weekly-sabbath-services-12/
CATEGORIES:Weekly Sabbath Service
ATTACH;FMTTYPE=image/jpeg:https://ucg-b.org/wp-content/uploads/2023/07/august-creative-text-made-with-flowers.jpg
END:VEVENT
BEGIN:VEVENT
DTSTART;TZID=America/Chicago:20250802T110000
DTEND;TZID=America/Chicago:20250802T133000
DTSTAMP:20260423T170834
CREATED:20250729T004646Z
LAST-MODIFIED:20250802T012110Z
UID:10039-1754132400-1754141400@ucg-b.org
SUMMARY:Weekly Sabbath Services
DESCRIPTION:Song Leader: Tim Alfred\nScripture Reading Steve Burleson\nMessage: Neal Parker\nHall Set Up/Close: Beth Burleson\nAudio/Visual: Blake Franklin
URL:https://ucg-b.org/event/weekly-sabbath-services-11/
CATEGORIES:Weekly Sabbath Service
ATTACH;FMTTYPE=image/jpeg:https://ucg-b.org/wp-content/uploads/2023/07/august-creative-text-made-with-flowers.jpg
END:VEVENT
BEGIN:VEVENT
DTSTART;TZID=America/Chicago:20250726T110000
DTEND;TZID=America/Chicago:20250726T133000
DTSTAMP:20260423T170834
CREATED:20250711T141626Z
LAST-MODIFIED:20250711T143207Z
UID:9989-1753527600-1753536600@ucg-b.org
SUMMARY:Weekly Sabbath Service
DESCRIPTION:Sabbath Services Start:  11:00 AM \n  \nSong Leader:                      Steve Burleson \nScripture Reading:              Tim Alfred \nMessage:                            Neal Parker \nSet Up:                               Leigh Ann Parker
URL:https://ucg-b.org/event/weekly-sabbath-service-28/
CATEGORIES:Weekly Sabbath Service
ATTACH;FMTTYPE=image/jpeg:https://ucg-b.org/wp-content/uploads/2024/06/July.jpg
END:VEVENT
END:VCALENDAR