BEGIN:VCALENDAR
VERSION:2.0
PRODID:-//United Church of God, Birmingham,  Christian Fellowship - ECPv6.15.17.1//NONSGML v1.0//EN
CALSCALE:GREGORIAN
METHOD:PUBLISH
X-WR-CALNAME:United Church of God, Birmingham,  Christian Fellowship
X-ORIGINAL-URL:https://ucg-b.org
X-WR-CALDESC:Events for United Church of God, Birmingham,  Christian Fellowship
REFRESH-INTERVAL;VALUE=DURATION:PT1H
X-Robots-Tag:noindex
X-PUBLISHED-TTL:PT1H
BEGIN:VTIMEZONE
TZID:America/Chicago
BEGIN:DAYLIGHT
TZOFFSETFROM:-0600
TZOFFSETTO:-0500
TZNAME:CDT
DTSTART:20250309T080000
END:DAYLIGHT
BEGIN:STANDARD
TZOFFSETFROM:-0500
TZOFFSETTO:-0600
TZNAME:CST
DTSTART:20251102T070000
END:STANDARD
BEGIN:DAYLIGHT
TZOFFSETFROM:-0600
TZOFFSETTO:-0500
TZNAME:CDT
DTSTART:20260308T080000
END:DAYLIGHT
BEGIN:STANDARD
TZOFFSETFROM:-0500
TZOFFSETTO:-0600
TZNAME:CST
DTSTART:20261101T070000
END:STANDARD
BEGIN:DAYLIGHT
TZOFFSETFROM:-0600
TZOFFSETTO:-0500
TZNAME:CDT
DTSTART:20270314T080000
END:DAYLIGHT
BEGIN:STANDARD
TZOFFSETFROM:-0500
TZOFFSETTO:-0600
TZNAME:CST
DTSTART:20271107T070000
END:STANDARD
END:VTIMEZONE
BEGIN:VEVENT
DTSTART;TZID=America/Chicago:20260331T191500
DTEND;TZID=America/Chicago:20260331T210000
DTSTAMP:20260423T123530
CREATED:20250404T170303Z
LAST-MODIFIED:20260331T154349Z
UID:9705-1774984500-1774990800@ucg-b.org
SUMMARY:Christian Passover Service
DESCRIPTION:Christian Passover Service:  7:15 PM CDT \nOpening Prayers:      Tim Alfred \nOpening Comments:  Neal Parker \nThe Bread:                    David Mason \nThe Wine:                     Dave Leavell \nFoot Washing:             Ben Franklin \nScripture Reading:     Congregation / John 14-17 \nClosing Comments:    Neal Parker \nHymn:                           Blake Franklin / Bless the Lord Eternal\, O My Soul \n  \n 
URL:https://ucg-b.org/event/passover-service/
CATEGORIES:Holy Day
ATTACH;FMTTYPE=image/jpeg:https://ucg-b.org/wp-content/uploads/2022/02/Passover-1.jpg
END:VEVENT
BEGIN:VEVENT
DTSTART;TZID=America/Chicago:20260402T110000
DTEND;TZID=America/Chicago:20260402T133000
DTSTAMP:20260423T123530
CREATED:20250404T172611Z
LAST-MODIFIED:20260331T152048Z
UID:9707-1775127600-1775136600@ucg-b.org
SUMMARY:First Day of Unleavened Bread
DESCRIPTION:Holy Day Service Start Time:  11:00 AM CDT \nSong Leader: Blake Franklin \nMessage: Ben Franklin \nSpecial Music:  Blake Franklin \nOffertory:  Neal Parker \nScripture Reading: David Mason \nMessage: Neal Parker \nSet Up: Leigh Ann Parker \nAudio: Blake Franklin
URL:https://ucg-b.org/event/first-day-of-unleavened-bread/
CATEGORIES:Holy Day
ATTACH;FMTTYPE=image/jpeg:https://ucg-b.org/wp-content/uploads/2022/02/Days-of-Unleavened-Bread-1.jpg
END:VEVENT
BEGIN:VEVENT
DTSTART;TZID=America/Chicago:20260404T110000
DTEND;TZID=America/Chicago:20260404T193000
DTSTAMP:20260423T123530
CREATED:20260331T155216Z
LAST-MODIFIED:20260331T155223Z
UID:10626-1775300400-1775331000@ucg-b.org
SUMMARY:Weekly Sabbath Service
DESCRIPTION:Sabbath Services Start: 11:00 AM \nSong Leader: Tim Alfred \nMessage: Dave Leavell \nScripture Reading: Ben Franklin \nMessage: Neal Parker \nHall Set Up/Close: Kakki Brown \nAudio/Visual: Neal Parker \nWave Sheaf Offering (Online Only) at 7 PM CDT
URL:https://ucg-b.org/event/weekly-sabbath-service-5/
CATEGORIES:Online Bible Study,Weekly Sabbath Service
ATTACH;FMTTYPE=image/jpeg:https://ucg-b.org/wp-content/uploads/2026/03/Screenshot-2026-03-31-105125.jpg
END:VEVENT
BEGIN:VEVENT
DTSTART;TZID=America/Chicago:20260408T110000
DTEND;TZID=America/Chicago:20260408T133000
DTSTAMP:20260423T123530
CREATED:20250404T173000Z
LAST-MODIFIED:20260331T155854Z
UID:9709-1775646000-1775655000@ucg-b.org
SUMMARY:Last Day of Unleavened Bread
DESCRIPTION:Holy Day Service Start Time: 11:00 AM CDT \nSong Leader: Blake Franklin \nMessage: Neal Parker \nScripture Reading: Dave Leavell \nMessage: Ben Franklin \nSet Up: Beth Burleson \nAudio: Blake Franklin
URL:https://ucg-b.org/event/last-day-of-unleavened-bread/
CATEGORIES:Holy Day
ATTACH;FMTTYPE=image/jpeg:https://ucg-b.org/wp-content/uploads/2022/02/Days-of-Unleavened-Bread.jpg
END:VEVENT
BEGIN:VEVENT
DTSTART;TZID=America/Chicago:20260411T110000
DTEND;TZID=America/Chicago:20260411T133000
DTSTAMP:20260423T123530
CREATED:20260408T023708Z
LAST-MODIFIED:20260408T023712Z
UID:10663-1775905200-1775914200@ucg-b.org
SUMMARY:Weekly Sabbath Services
DESCRIPTION:Sabbath Services Start: 11:00 AM \nSong Leader: Tim Alfred \nMessage: Neal Parker \nScripture Reading: Dave Leavell \nMessage: Neal Parker \nHall Set Up/Close: Beth Burleson \nAudio/Visual: Blake Franklin
URL:https://ucg-b.org/event/weekly-sabbath-services-8/
CATEGORIES:Weekly Sabbath Service
ATTACH;FMTTYPE=image/jpeg:https://ucg-b.org/wp-content/uploads/2026/03/Screenshot-2026-03-31-105125.jpg
END:VEVENT
BEGIN:VEVENT
DTSTART;TZID=America/Chicago:20260418T110000
DTEND;TZID=America/Chicago:20260418T133000
DTSTAMP:20260423T123530
CREATED:20260408T024240Z
LAST-MODIFIED:20260416T172346Z
UID:10665-1776510000-1776519000@ucg-b.org
SUMMARY:Weekly Sabbath Services
DESCRIPTION:Sabbath Services Start: 11:00 AM \nSong Leader: Blake Franklin \nMessage: Ben Franklin \nScripture Reading: Bill Repp \nMessage: Ben Franklin \nHall Set Up/Close: Kakki Brown \nAudio/Visual: Blake Franklin
URL:https://ucg-b.org/event/weekly-sabbath-services-9/
CATEGORIES:Weekly Sabbath Service
ATTACH;FMTTYPE=image/jpeg:https://ucg-b.org/wp-content/uploads/2026/03/Screenshot-2026-03-31-105125.jpg
END:VEVENT
BEGIN:VEVENT
DTSTART;TZID=America/Chicago:20260425T110000
DTEND;TZID=America/Chicago:20260425T133000
DTSTAMP:20260423T123530
CREATED:20260408T024527Z
LAST-MODIFIED:20260408T024529Z
UID:10667-1777114800-1777123800@ucg-b.org
SUMMARY:Weekly Sabbath Services
DESCRIPTION:Sabbath Services Start: 11:00 AM \nSong Leader: Blake Franklin \nMessage: Dave Leavell \nScripture Reading: Tim Alfred \nMessage: Neal Parker \nHall Set Up/Close: Beth Burleson \nAudio/Visual: Blake Franklin
URL:https://ucg-b.org/event/weekly-sabbath-services-10/
CATEGORIES:Weekly Sabbath Service
ATTACH;FMTTYPE=image/jpeg:https://ucg-b.org/wp-content/uploads/2026/03/Screenshot-2026-03-31-105125.jpg
END:VEVENT
BEGIN:VEVENT
DTSTART;TZID=America/Chicago:20260524T110000
DTEND;TZID=America/Chicago:20260524T133000
DTSTAMP:20260423T123530
CREATED:20250529T011902Z
LAST-MODIFIED:20260109T150314Z
UID:9876-1779620400-1779629400@ucg-b.org
SUMMARY:Pentecost Holy Day Service
DESCRIPTION:Holy Day Service Start:  11:00 AM CT
URL:https://ucg-b.org/event/pentecost-holy-day-service/
CATEGORIES:Holy Day
ATTACH;FMTTYPE=image/png:https://ucg-b.org/wp-content/uploads/2022/06/Pentecost.png
END:VEVENT
BEGIN:VEVENT
DTSTART;TZID=America/Chicago:20260912T110000
DTEND;TZID=America/Chicago:20260912T133000
DTSTAMP:20260423T123530
CREATED:20250729T002125Z
LAST-MODIFIED:20260112T153553Z
UID:10030-1789210800-1789219800@ucg-b.org
SUMMARY:Feast of Trumpets - Holy Day
DESCRIPTION:Holy Day Service Start:  11:00 AM CT
URL:https://ucg-b.org/event/feast-of-trumpets-holy-day/
CATEGORIES:Holy Day
ATTACH;FMTTYPE=image/png:https://ucg-b.org/wp-content/uploads/2023/09/Trumpets.png
END:VEVENT
BEGIN:VEVENT
DTSTART;TZID=America/Chicago:20260921T110000
DTEND;TZID=America/Chicago:20260921T133000
DTSTAMP:20260423T123530
CREATED:20250729T002349Z
LAST-MODIFIED:20260109T150632Z
UID:10032-1789988400-1789997400@ucg-b.org
SUMMARY:Day of Atonement - Holy Day
DESCRIPTION:Day of Atonement Holy Day Service Start:  11:00 AM \n 
URL:https://ucg-b.org/event/day-of-atonement-holy-day/
CATEGORIES:Holy Day
ATTACH;FMTTYPE=image/png:https://ucg-b.org/wp-content/uploads/2023/09/Atonement.png
END:VEVENT
BEGIN:VEVENT
DTSTART;VALUE=DATE:20260926
DTEND;VALUE=DATE:20261003
DTSTAMP:20260423T123530
CREATED:20250729T002543Z
LAST-MODIFIED:20260109T150859Z
UID:10034-1790380800-1790985599@ucg-b.org
SUMMARY:Feast of Tabernacles
DESCRIPTION:September 26-October 2\, 2026
URL:https://ucg-b.org/event/feast-of-tabernacles/
CATEGORIES:Holy Day
ATTACH;FMTTYPE=image/png:https://ucg-b.org/wp-content/uploads/2023/09/Tabernacles.png
END:VEVENT
BEGIN:VEVENT
DTSTART;TZID=America/Chicago:20261003T080000
DTEND;TZID=America/Chicago:20261003T170000
DTSTAMP:20260423T123530
CREATED:20250729T002658Z
LAST-MODIFIED:20260109T151008Z
UID:10036-1791014400-1791046800@ucg-b.org
SUMMARY:8th Day - Holy Day
DESCRIPTION:
URL:https://ucg-b.org/event/8th-day-holy-day/
CATEGORIES:Holy Day
ATTACH;FMTTYPE=image/webp:https://ucg-b.org/wp-content/uploads/2021/09/8th-Day.webp
END:VEVENT
END:VCALENDAR