BEGIN:VCALENDAR
VERSION:2.0
PRODID:-//United Church of God, Birmingham,  Christian Fellowship - ECPv6.15.17.1//NONSGML v1.0//EN
CALSCALE:GREGORIAN
METHOD:PUBLISH
X-WR-CALNAME:United Church of God, Birmingham,  Christian Fellowship
X-ORIGINAL-URL:https://ucg-b.org
X-WR-CALDESC:Events for United Church of God, Birmingham,  Christian Fellowship
REFRESH-INTERVAL;VALUE=DURATION:PT1H
X-Robots-Tag:noindex
X-PUBLISHED-TTL:PT1H
BEGIN:VTIMEZONE
TZID:America/Chicago
BEGIN:DAYLIGHT
TZOFFSETFROM:-0600
TZOFFSETTO:-0500
TZNAME:CDT
DTSTART:20240310T080000
END:DAYLIGHT
BEGIN:STANDARD
TZOFFSETFROM:-0500
TZOFFSETTO:-0600
TZNAME:CST
DTSTART:20241103T070000
END:STANDARD
BEGIN:DAYLIGHT
TZOFFSETFROM:-0600
TZOFFSETTO:-0500
TZNAME:CDT
DTSTART:20250309T080000
END:DAYLIGHT
BEGIN:STANDARD
TZOFFSETFROM:-0500
TZOFFSETTO:-0600
TZNAME:CST
DTSTART:20251102T070000
END:STANDARD
BEGIN:DAYLIGHT
TZOFFSETFROM:-0600
TZOFFSETTO:-0500
TZNAME:CDT
DTSTART:20260308T080000
END:DAYLIGHT
BEGIN:STANDARD
TZOFFSETFROM:-0500
TZOFFSETTO:-0600
TZNAME:CST
DTSTART:20261101T070000
END:STANDARD
BEGIN:DAYLIGHT
TZOFFSETFROM:-0600
TZOFFSETTO:-0500
TZNAME:CDT
DTSTART:20270314T080000
END:DAYLIGHT
BEGIN:STANDARD
TZOFFSETFROM:-0500
TZOFFSETTO:-0600
TZNAME:CST
DTSTART:20271107T070000
END:STANDARD
END:VTIMEZONE
BEGIN:VEVENT
DTSTART;TZID=America/Chicago:20260328T110000
DTEND;TZID=America/Chicago:20260328T133000
DTSTAMP:20260423T152947
CREATED:20260305T025445Z
LAST-MODIFIED:20260320T205909Z
UID:10577-1774695600-1774704600@ucg-b.org
SUMMARY:Weekly Sabbath Service
DESCRIPTION:Sabbath Services Start: 11:00 AM \nSong Leader:                     Neal Parker \nMessage:                            Dave Leavell \nScripture Reading:           Steve Burleson \nMessage:                            Ben Franklin \nHall Set Up/Close:           Beth Burleson \nAudio/Visual:                    Blake Franklin
URL:https://ucg-b.org/event/weekly-sabbath-service-25/
CATEGORIES:Weekly Sabbath Service
ATTACH;FMTTYPE=image/webp:https://ucg-b.org/wp-content/uploads/2022/02/March.webp
END:VEVENT
BEGIN:VEVENT
DTSTART;TZID=America/Chicago:20260321T110000
DTEND;TZID=America/Chicago:20260321T133000
DTSTAMP:20260423T152947
CREATED:20260305T024759Z
LAST-MODIFIED:20260320T203518Z
UID:10575-1774090800-1774099800@ucg-b.org
SUMMARY:Weekly Sabbath Service
DESCRIPTION:Sabbath Services Start: 11:00 AM \nSong Leader:                     Tim Alfred \nMessage:                            Neal Parker \nScripture Reading:           Bill Repp \nMessage:                            Neal Parker \nHall Set Up/Close:           Kakki Brown \nAudio/Visual:                   Blake Franklin
URL:https://ucg-b.org/event/weekly-sabbath-service-24/
CATEGORIES:Weekly Sabbath Service
ATTACH;FMTTYPE=image/webp:https://ucg-b.org/wp-content/uploads/2022/02/March.webp
END:VEVENT
BEGIN:VEVENT
DTSTART;TZID=America/Chicago:20260314T110000
DTEND;TZID=America/Chicago:20260314T133000
DTSTAMP:20260423T152947
CREATED:20260305T024327Z
LAST-MODIFIED:20260305T030034Z
UID:10573-1773486000-1773495000@ucg-b.org
SUMMARY:Weekly Sabbath Service
DESCRIPTION:Sabbath Services Start: 11:00 AM \nSong Leader:                     Blake Franklin \nMessage:                            Neal Parker \nScripture Reading:            Kakki Brown \nMessage:                            Neal Parker \nHall Set Up/Close:            Beth Burleson \nAudio/Visual:                     Blake Franklin
URL:https://ucg-b.org/event/weekly-sabbath-service-23/
CATEGORIES:Weekly Sabbath Service
ATTACH;FMTTYPE=image/webp:https://ucg-b.org/wp-content/uploads/2022/02/March.webp
END:VEVENT
BEGIN:VEVENT
DTSTART;TZID=America/Chicago:20260307T110000
DTEND;TZID=America/Chicago:20260307T133000
DTSTAMP:20260423T152947
CREATED:20260305T023848Z
LAST-MODIFIED:20260305T023851Z
UID:10571-1772881200-1772890200@ucg-b.org
SUMMARY:Weekly Sabbath Service
DESCRIPTION:Sabbath Services Start: 11:00 AM \nSong Leader:                     Tim Alfred \nMessage:                            Dave Leavell \nScripture Reading:            Ben Franklin \nMessage:                            Neal Parker \nHall Set Up/Close:            Kakki Brown \nAudio/Visual:                     Neal Parker
URL:https://ucg-b.org/event/weekly-sabbath-service-4/
CATEGORIES:Weekly Sabbath Service
ATTACH;FMTTYPE=image/webp:https://ucg-b.org/wp-content/uploads/2022/02/March.webp
END:VEVENT
BEGIN:VEVENT
DTSTART;TZID=America/Chicago:20260228T110000
DTEND;TZID=America/Chicago:20260228T133000
DTSTAMP:20260423T152947
CREATED:20260206T143915Z
LAST-MODIFIED:20260206T143916Z
UID:10507-1772276400-1772285400@ucg-b.org
SUMMARY:Weekly Sabbath Service
DESCRIPTION:Sabbath Services Start: 11:00 AM \nSong Leader:                   Blake Franklin \nMessage:                           Neal Parker \nScripture Reading:          Kakki Brown \nMessage:                           Ben Franklin \nHall Set Up/Close:          Beth Burleson \nAudio/Visual:                   Neal Parker
URL:https://ucg-b.org/event/weekly-sabbath-service-22/
CATEGORIES:Weekly Sabbath Service
ATTACH;FMTTYPE=image/jpeg:https://ucg-b.org/wp-content/uploads/2022/01/wooden-text-for-february.jpg
END:VEVENT
BEGIN:VEVENT
DTSTART;TZID=America/Chicago:20260221T110000
DTEND;TZID=America/Chicago:20260221T133000
DTSTAMP:20260423T152947
CREATED:20260206T142730Z
LAST-MODIFIED:20260206T142732Z
UID:10505-1771671600-1771680600@ucg-b.org
SUMMARY:Weekly Sabbath Service
DESCRIPTION:Sabbath Services Start: 11:00 AM \nSong Leader:                   Tim Alfred \nBible Study:                     Neal Parker \nScripture Reading:         Bill Repp \nBible Study:                      Neal Parker \nHall Set Up/Close:         Kakki Brown \nAudio/Visual:                   Blake Franklin
URL:https://ucg-b.org/event/weekly-sabbath-service-21/
CATEGORIES:Weekly Sabbath Service
ATTACH;FMTTYPE=image/jpeg:https://ucg-b.org/wp-content/uploads/2022/01/wooden-text-for-february.jpg
END:VEVENT
BEGIN:VEVENT
DTSTART;TZID=America/Chicago:20260214T110000
DTEND;TZID=America/Chicago:20260214T133000
DTSTAMP:20260423T152947
CREATED:20260206T142418Z
LAST-MODIFIED:20260206T142420Z
UID:10503-1771066800-1771075800@ucg-b.org
SUMMARY:Weekly Sabbath Service
DESCRIPTION:Sabbath Services Start: 11:00 AM \nSong Leader:                   Blake Franklin \nMessage:                           Neal Parker \nScripture Reading:         Steve Burleson \nMessage:                           Neal Parker \nHall Set Up/Close:          Beth Burleson \nAudio/Visual:                   Neal Parker
URL:https://ucg-b.org/event/weekly-sabbath-service-20/
CATEGORIES:Weekly Sabbath Service
ATTACH;FMTTYPE=image/jpeg:https://ucg-b.org/wp-content/uploads/2022/01/wooden-text-for-february.jpg
END:VEVENT
BEGIN:VEVENT
DTSTART;TZID=America/Chicago:20260207T110000
DTEND;TZID=America/Chicago:20260207T133000
DTSTAMP:20260423T152947
CREATED:20260131T233201Z
LAST-MODIFIED:20260206T141906Z
UID:10500-1770462000-1770471000@ucg-b.org
SUMMARY:Weekly Sabbath Services
DESCRIPTION:Sabbath Services Start: 11:00 AM \nSong Leader:                    Neal Parker \nMessage:                            Dave Leavell \nScripture Reading:           Tim Alfred \nMessage:                            Ben Franklin \nHall Set Up/Close:           Beth Burleson \nAudio/Visual:                   Blake Franklin
URL:https://ucg-b.org/event/weekly-sabbath-services-7/
CATEGORIES:Weekly Sabbath Service
ATTACH;FMTTYPE=image/jpeg:https://ucg-b.org/wp-content/uploads/2022/01/wooden-text-for-february.jpg
END:VEVENT
BEGIN:VEVENT
DTSTART;TZID=America/Chicago:20260131T110000
DTEND;TZID=America/Chicago:20260131T133000
DTSTAMP:20260423T152947
CREATED:20251230T164658Z
LAST-MODIFIED:20260109T142625Z
UID:10412-1769857200-1769866200@ucg-b.org
SUMMARY:Weekly Sabbath Services
DESCRIPTION:We will be meeting with United Christian Church of God at their location\, this Sabbath. Services begin at or around 1:30 PM. United Christian Church of God is located at 3178 A & B Pelham Parkway Pelham\, AL  35124.
URL:https://ucg-b.org/event/weekly-sabbath-services-6/
CATEGORIES:Weekly Sabbath Service
ATTACH;FMTTYPE=image/jpeg:https://ucg-b.org/wp-content/uploads/2021/12/january-plans.jpg
END:VEVENT
BEGIN:VEVENT
DTSTART;TZID=America/Chicago:20260124T110000
DTEND;TZID=America/Chicago:20260124T133000
DTSTAMP:20260423T152947
CREATED:20251230T164146Z
LAST-MODIFIED:20260123T174232Z
UID:10410-1769252400-1769261400@ucg-b.org
SUMMARY:Weekly Sabbath Services
DESCRIPTION:Online Sabbath Services Start: 11:00 AM \nDue to potential weather and travel difficulties\, we will have an online only service on 1/24/2026
URL:https://ucg-b.org/event/weekly-sabbath-services-5/
CATEGORIES:Weekly Sabbath Service
ATTACH;FMTTYPE=image/jpeg:https://ucg-b.org/wp-content/uploads/2021/12/january-plans.jpg
END:VEVENT
BEGIN:VEVENT
DTSTART;TZID=America/Chicago:20260117T110000
DTEND;TZID=America/Chicago:20260117T133000
DTSTAMP:20260423T152947
CREATED:20251230T163840Z
LAST-MODIFIED:20260116T145107Z
UID:10408-1768647600-1768656600@ucg-b.org
SUMMARY:Weekly Sabbath Services
DESCRIPTION:Sabbath Services Start: 11:00 AM \nSong Leader:                   Tim Alfred \nScripture Reading:         Ben Franklin \nBible Study:                      Neal Parker \nHall Set Up/Close:         Beth Burleson \nAudio/Visual:                   Blake Franklin
URL:https://ucg-b.org/event/weekly-sabbath-services-4/
CATEGORIES:Weekly Sabbath Service
ATTACH;FMTTYPE=image/jpeg:https://ucg-b.org/wp-content/uploads/2021/12/january-plans.jpg
END:VEVENT
BEGIN:VEVENT
DTSTART;TZID=America/Chicago:20260110T110000
DTEND;TZID=America/Chicago:20260110T133000
DTSTAMP:20260423T152947
CREATED:20251230T163535Z
LAST-MODIFIED:20260108T023238Z
UID:10406-1768042800-1768051800@ucg-b.org
SUMMARY:Weekly Sabbath Services
DESCRIPTION:Sabbath Services Start: 11:00 AM \nSong Leader:                   Blake Franklin \nMessage:                           Neal Parker \nScripture Reading:          Dave Leavell \nSpecial Music:                 Bill Repp \nMessage:                           Ben Franklin \nHall Set Up/Close:          Beth Burleson \nAudio/Visual:                   Neal Parker
URL:https://ucg-b.org/event/weekly-sabbath-services-3/
CATEGORIES:Weekly Sabbath Service
ATTACH;FMTTYPE=image/jpeg:https://ucg-b.org/wp-content/uploads/2021/12/january-plans.jpg
END:VEVENT
BEGIN:VEVENT
DTSTART;TZID=America/Chicago:20260103T110000
DTEND;TZID=America/Chicago:20260103T133000
DTSTAMP:20260423T152947
CREATED:20251230T163121Z
LAST-MODIFIED:20251230T163123Z
UID:10404-1767438000-1767447000@ucg-b.org
SUMMARY:Weekly Sabbath Services
DESCRIPTION:Sabbath Services Start: 11:00 AM \nSong Leader:                     Steve Burleson \nMessage:                            Dave Leavell \nScripture Reading:            Kakki Brown \nMessage:                            Neal Parker \nHall Set Up/Close:           Kakki Brown \nAudio/Visual:                     Blake Franklin
URL:https://ucg-b.org/event/weekly-sabbath-services-2/
CATEGORIES:Weekly Sabbath Service
ATTACH;FMTTYPE=image/jpeg:https://ucg-b.org/wp-content/uploads/2021/12/january-plans.jpg
END:VEVENT
BEGIN:VEVENT
DTSTART;TZID=America/Chicago:20251227T110000
DTEND;TZID=America/Chicago:20251227T133000
DTSTAMP:20260423T152947
CREATED:20251204T024702Z
LAST-MODIFIED:20251219T152955Z
UID:10339-1766833200-1766842200@ucg-b.org
SUMMARY:Weekly Sabbath Service
DESCRIPTION:Sabbath Services Start: 11:00 AM \nSong Leader:                     Tim Alfred \nScripture Reading:            Steve Burleson \nBible Study:                         Neal Parker \nHall Set Up/Close:            Beth Burleson
URL:https://ucg-b.org/event/weekly-sabbath-service-32/
CATEGORIES:Weekly Sabbath Service
ATTACH;FMTTYPE=image/jpeg:https://ucg-b.org/wp-content/uploads/2021/11/planning-and-events-month-of-december-on-a-calendar.jpg
END:VEVENT
BEGIN:VEVENT
DTSTART;TZID=America/Chicago:20251220T110000
DTEND;TZID=America/Chicago:20251220T133000
DTSTAMP:20260423T152947
CREATED:20251204T024043Z
LAST-MODIFIED:20251219T152842Z
UID:10337-1766228400-1766237400@ucg-b.org
SUMMARY:Weekly Sabbath Service
DESCRIPTION:Sabbath Services Start: 11:00 AM \nSong Leader:                     Blake Franklin \nMessage:                            Ben Franklin \nScripture Reading:            Tim Alfred \nMessage:                            Neal Parker \nHall Set Up/Close:            Leigh Ann Parker
URL:https://ucg-b.org/event/weekly-sabbath-service-19/
CATEGORIES:Weekly Sabbath Service
ATTACH;FMTTYPE=image/jpeg:https://ucg-b.org/wp-content/uploads/2021/11/planning-and-events-month-of-december-on-a-calendar.jpg
END:VEVENT
BEGIN:VEVENT
DTSTART;TZID=America/Chicago:20251213T110000
DTEND;TZID=America/Chicago:20251213T133000
DTSTAMP:20260423T152947
CREATED:20251204T023541Z
LAST-MODIFIED:20251204T023543Z
UID:10335-1765623600-1765632600@ucg-b.org
SUMMARY:Weekly Sabbath Service
DESCRIPTION:Sabbath Services Start: 11:00 AM \nSong Leader:                     Steve Burleson \nMessage:                            Neal Parker \nScripture Reading:            Bill Repp \nMessage:                            Neal Parker \nHall Set Up/Close:            Kakki Brown
URL:https://ucg-b.org/event/weekly-sabbath-service-3/
CATEGORIES:Weekly Sabbath Service
ATTACH;FMTTYPE=image/jpeg:https://ucg-b.org/wp-content/uploads/2022/11/december-word-on-wooden-blocks.jpg
END:VEVENT
BEGIN:VEVENT
DTSTART;TZID=America/Chicago:20251206T110000
DTEND;TZID=America/Chicago:20251206T133000
DTSTAMP:20260423T152947
CREATED:20251204T023112Z
LAST-MODIFIED:20251205T163600Z
UID:10333-1765018800-1765027800@ucg-b.org
SUMMARY:Weekly Sabbath Service
DESCRIPTION:Sabbath Services Start: 11:00 AM \nSong Leader:                     Tim Alfred \nMessage:                            Dave Leavell \nSpecial Music:                   Bill Repp \nScripture Reading:            Ben Franklin \nMessage:                            Neal Parker \nHall Set Up/Close:            Beth Burleson
URL:https://ucg-b.org/event/weekly-sabbath-service-2/
CATEGORIES:Weekly Sabbath Service
ATTACH;FMTTYPE=image/jpeg:https://ucg-b.org/wp-content/uploads/2021/11/planning-and-events-month-of-december-on-a-calendar.jpg
END:VEVENT
BEGIN:VEVENT
DTSTART;TZID=America/Chicago:20251129T110000
DTEND;TZID=America/Chicago:20251129T133000
DTSTAMP:20260423T152947
CREATED:20251126T161300Z
LAST-MODIFIED:20251126T161303Z
UID:10309-1764414000-1764423000@ucg-b.org
SUMMARY:Weekly Sabbath Service
DESCRIPTION:Sabbath Service Start:  11:00 AM \nSong Leader:            Blake Franklin \nMessage:                     Ben Franklin \nScripture Reading:   Tim Alfred \nMessage:                   Neal Parker \nSet Up:                     Beth Burleson \nAudio:                       Blake Franklin
URL:https://ucg-b.org/event/weekly-sabbath-service/
CATEGORIES:Weekly Sabbath Service
ATTACH;FMTTYPE=image/jpeg:https://ucg-b.org/wp-content/uploads/2022/10/autumn-fall-november-composition-with-decorative-dried-leaves.jpg
END:VEVENT
BEGIN:VEVENT
DTSTART;TZID=America/Chicago:20251122T110000
DTEND;TZID=America/Chicago:20251122T143000
DTSTAMP:20260423T152947
CREATED:20251024T031701Z
LAST-MODIFIED:20251024T031704Z
UID:10257-1763809200-1763821800@ucg-b.org
SUMMARY:Weekly Sabbath Service
DESCRIPTION:Sabbath Service Start:  11:00 AM \nSong Leader:            Blake Franklin \nMessage:                     Neal Pakrer \nScripture Reading:   Dave Leavell \nMessage:                   Neal Parker \nSet Up:                     Leigh Ann Parker \nAudio:                       Blake Franklin
URL:https://ucg-b.org/event/weekly-sabbath-service-18/
CATEGORIES:Weekly Sabbath Service
ATTACH;FMTTYPE=image/jpeg:https://ucg-b.org/wp-content/uploads/2022/10/autumn-fall-november-composition-with-decorative-dried-leaves.jpg
END:VEVENT
BEGIN:VEVENT
DTSTART;TZID=America/Chicago:20251115T110000
DTEND;TZID=America/Chicago:20251115T140000
DTSTAMP:20260423T152947
CREATED:20251024T031418Z
LAST-MODIFIED:20251024T031420Z
UID:10255-1763204400-1763215200@ucg-b.org
SUMMARY:Weekly Sabbath Service
DESCRIPTION:Sabbath Service Start:  11:00 AM \nSong Leader:             Steve Burleson \nMessage:                     Neal Pakrer \nScripture Reading:   Dave Leavell \nMessage:                    Ben Franklin \nSet Up:                      Beth Burleson \nAudio:                       Blake Franklin
URL:https://ucg-b.org/event/weekly-sabbath-service-17/
CATEGORIES:Weekly Sabbath Service
ATTACH;FMTTYPE=image/jpeg:https://ucg-b.org/wp-content/uploads/2022/10/autumn-fall-november-composition-with-decorative-dried-leaves.jpg
END:VEVENT
BEGIN:VEVENT
DTSTART;TZID=America/Chicago:20251108T110000
DTEND;TZID=America/Chicago:20251108T140000
DTSTAMP:20260423T152947
CREATED:20251024T031029Z
LAST-MODIFIED:20251024T031031Z
UID:10253-1762599600-1762610400@ucg-b.org
SUMMARY:Weekly Sabbath Service
DESCRIPTION:Sabbath Service Start:  11:00 AM \nSong Leader:              Tim Alfred \nMessage:                     Neal Pakrer \nScripture Reading:   Ben Franklin \nMessage:                     Neal Parker \nSet Up:                       Leigh Ann Parker \nAudio:                       Blake Franklin
URL:https://ucg-b.org/event/weekly-sabbath-service-16/
CATEGORIES:Weekly Sabbath Service
ATTACH;FMTTYPE=image/jpeg:https://ucg-b.org/wp-content/uploads/2022/10/autumn-fall-november-composition-with-decorative-dried-leaves.jpg
END:VEVENT
BEGIN:VEVENT
DTSTART;TZID=America/Chicago:20251101T110000
DTEND;TZID=America/Chicago:20251101T140000
DTSTAMP:20260423T152947
CREATED:20251024T030712Z
LAST-MODIFIED:20251024T030715Z
UID:10251-1761994800-1762005600@ucg-b.org
SUMMARY:Weekly Sabbath Services
DESCRIPTION:Sabbath Service Start:  11:00 AM \nSong Leader:           Blake Franklin \nMessage:                  Dave Leavell \nScripture Reading:   Kakki Brown \nMessage:                  Ben Franklin \nSet Up:                    Kakki Brown \nAudio:                       Blake Franklin
URL:https://ucg-b.org/event/weekly-sabbath-services/
CATEGORIES:Weekly Sabbath Service
ATTACH;FMTTYPE=image/jpeg:https://ucg-b.org/wp-content/uploads/2022/10/autumn-fall-november-composition-with-decorative-dried-leaves.jpg
END:VEVENT
BEGIN:VEVENT
DTSTART;TZID=America/Chicago:20251025T110000
DTEND;TZID=America/Chicago:20251025T133000
DTSTAMP:20260423T152947
CREATED:20251002T001427Z
LAST-MODIFIED:20251002T001429Z
UID:10208-1761390000-1761399000@ucg-b.org
SUMMARY:Weekly Sabbath Service
DESCRIPTION:Sabbath Service Start:  11:00 AM \nSong Leader:           Tim Alfred \nMessage:                  Neal Parker \nScripture Reading:  Steve Burleson \nMessage:                  Neal Parker \nSet Up:                     Kakki Brown \nAudio:                       Blake Franklin
URL:https://ucg-b.org/event/weekly-sabbath-service-15/
CATEGORIES:Weekly Sabbath Service
ATTACH;FMTTYPE=image/jpeg:https://ucg-b.org/wp-content/uploads/2023/09/flat-lay-multicolored-autumn-maple-leaves-and-october-lettering.jpg
END:VEVENT
BEGIN:VEVENT
DTSTART;TZID=America/Chicago:20251018T080000
DTEND;TZID=America/Chicago:20251018T170000
DTSTAMP:20260423T152947
CREATED:20251002T001223Z
LAST-MODIFIED:20251002T001225Z
UID:10206-1760774400-1760806800@ucg-b.org
SUMMARY:Weekly Sabbath Service
DESCRIPTION:Sabbath Service Start:  11:00 AM \nSong Leader:           Steve Burleson \nMessage:                 Dave Leavell \nScripture Reading:   Tim Alfred \nMessage:                 Ben Franklin \nSet Up:                     Beth Burleson \nAudio:                       Blake Franklin
URL:https://ucg-b.org/event/weekly-sabbath-service-14/
CATEGORIES:Weekly Sabbath Service
ATTACH;FMTTYPE=image/jpeg:https://ucg-b.org/wp-content/uploads/2023/09/flat-lay-multicolored-autumn-maple-leaves-and-october-lettering.jpg
END:VEVENT
BEGIN:VEVENT
DTSTART;TZID=America/Chicago:20251011T080000
DTEND;TZID=America/Chicago:20251011T170000
DTSTAMP:20260423T152947
CREATED:20251002T001008Z
LAST-MODIFIED:20251002T001010Z
UID:10204-1760169600-1760202000@ucg-b.org
SUMMARY:No Weekly Sabbath Service
DESCRIPTION:No local Sabbath Service
URL:https://ucg-b.org/event/no-weekly-sabbath-service/
CATEGORIES:Weekly Sabbath Service
ATTACH;FMTTYPE=image/jpeg:https://ucg-b.org/wp-content/uploads/2023/09/flat-lay-multicolored-autumn-maple-leaves-and-october-lettering.jpg
END:VEVENT
BEGIN:VEVENT
DTSTART;TZID=America/Chicago:20251004T110000
DTEND;TZID=America/Chicago:20251004T133000
DTSTAMP:20260423T152947
CREATED:20251002T000725Z
LAST-MODIFIED:20251002T195542Z
UID:10202-1759575600-1759584600@ucg-b.org
SUMMARY:Weekly Sabbath Service
DESCRIPTION:Sabbath Service Start:  11:00 AM \nSong Leader:           Steve Burleson \nMessage:                  Neal Parker \nScripture Reading:   Kakki Brown \nMessage:                  Neal Parker \nSet Up:                     Leigh Ann Parker \nAudio:                       Neal Parker
URL:https://ucg-b.org/event/weekly-sabbath-service-13/
CATEGORIES:Weekly Sabbath Service
ATTACH;FMTTYPE=image/jpeg:https://ucg-b.org/wp-content/uploads/2023/09/flat-lay-multicolored-autumn-maple-leaves-and-october-lettering.jpg
END:VEVENT
BEGIN:VEVENT
DTSTART;TZID=America/Chicago:20250927T110000
DTEND;TZID=America/Chicago:20250927T133000
DTSTAMP:20260423T152947
CREATED:20250902T194520Z
LAST-MODIFIED:20250919T152008Z
UID:10114-1758970800-1758979800@ucg-b.org
SUMMARY:Weekly Sabbath Service
DESCRIPTION:Sabbath Services Start: 11:00 AM\nSong Leader: Steve Burleson\nMessage: Neal Parker\nSpecial Music: Bill Repp\nScripture Reading: Dave Leavell\nMessage: Neal Parker\nHall Set Up/Close: Kakki Brown\nAudio/Visual: Blake Franklin
URL:https://ucg-b.org/event/weekly-sabbath-service-12/
CATEGORIES:Weekly Sabbath Service
ATTACH;FMTTYPE=image/jpeg:https://ucg-b.org/wp-content/uploads/2023/08/overview-of-september-calendar-surrounded-by-colorful-autumn-leaves.jpg
END:VEVENT
BEGIN:VEVENT
DTSTART;TZID=America/Chicago:20250920T110000
DTEND;TZID=America/Chicago:20250920T133000
DTSTAMP:20260423T152947
CREATED:20250902T194012Z
LAST-MODIFIED:20250919T150858Z
UID:10112-1758366000-1758375000@ucg-b.org
SUMMARY:Weekly Sabbath Service
DESCRIPTION:Sabbath Services Start: 11:00 AM\nSong Leader: Tim Alfred\nScripture Reading: Neal Parker\nMessage: Ben Franklin\nHall Set Up/Close: Leigh Ann Parker\nAudio/Visual: Blake Franklin
URL:https://ucg-b.org/event/weekly-sabbath-service-11/
CATEGORIES:Weekly Sabbath Service
END:VEVENT
BEGIN:VEVENT
DTSTART;TZID=America/Chicago:20250913T110000
DTEND;TZID=America/Chicago:20250913T133000
DTSTAMP:20260423T152947
CREATED:20250902T193631Z
LAST-MODIFIED:20260112T153336Z
UID:10110-1757761200-1757770200@ucg-b.org
SUMMARY:Weekly Sabbath Service
DESCRIPTION:Holy Day Services Start: 11:00 AM
URL:https://ucg-b.org/event/weekly-sabbath-service-10/
CATEGORIES:Weekly Sabbath Service
ATTACH;FMTTYPE=image/jpeg:https://ucg-b.org/wp-content/uploads/2023/08/overview-of-september-calendar-surrounded-by-colorful-autumn-leaves.jpg
END:VEVENT
BEGIN:VEVENT
DTSTART;TZID=America/Chicago:20250906T110000
DTEND;TZID=America/Chicago:20250906T133000
DTSTAMP:20260423T152947
CREATED:20250902T193036Z
LAST-MODIFIED:20250902T193134Z
UID:10106-1757156400-1757165400@ucg-b.org
SUMMARY:Weekly Sabbath Service
DESCRIPTION:Sabbath Services Start: 11:00 AM\nSong Leader: Blake Franklin\nMessage: Dave Leavell\nScripture Reading Steve Burleson\nMessage: Neal Parker\nHall Set Up/Close: Kakki Brown\nAudio/Visual: Neal Parker / Blake Franklin
URL:https://ucg-b.org/event/weekly-sabbath-service-9/
CATEGORIES:Weekly Sabbath Service
ATTACH;FMTTYPE=image/jpeg:https://ucg-b.org/wp-content/uploads/2023/08/overview-of-september-calendar-surrounded-by-colorful-autumn-leaves.jpg
END:VEVENT
END:VCALENDAR